Package: ggseqalign Version: 1.1.0 Command: /Library/Frameworks/R.framework/Resources/bin/R CMD check --install=check:ggseqalign.install-out.txt --library=/Library/Frameworks/R.framework/Resources/library --no-vignettes --timings ggseqalign_1.1.0.tar.gz StartedAt: 2025-02-20 20:45:34 -0500 (Thu, 20 Feb 2025) EndedAt: 2025-02-20 20:47:11 -0500 (Thu, 20 Feb 2025) EllapsedTime: 96.5 seconds RetCode: 0 Status: OK CheckDir: ggseqalign.Rcheck Warnings: 0