Package: ggseqalign Version: 1.1.0 Command: /Library/Frameworks/R.framework/Resources/bin/R CMD build --keep-empty-dirs --no-resave-data ggseqalign StartedAt: 2025-02-20 16:50:48 -0500 (Thu, 20 Feb 2025) EndedAt: 2025-02-20 16:51:20 -0500 (Thu, 20 Feb 2025) EllapsedTime: 32.2 seconds RetCode: 0 Status: OK PackageFile: ggseqalign_1.1.0.tar.gz PackageFileSize: 716.7 KiB