Package: ggsc Version: 1.5.0 Command: rm -rf ggsc.buildbin-libdir && mkdir ggsc.buildbin-libdir && E:\biocbuild\bbs-3.21-bioc\R\bin\R.exe CMD INSTALL --build --library=ggsc.buildbin-libdir ggsc_1.5.0.tar.gz StartedAt: 2025-02-21 08:12:34 -0500 (Fri, 21 Feb 2025) EndedAt: 2025-02-21 08:14:07 -0500 (Fri, 21 Feb 2025) EllapsedTime: 92.8 seconds RetCode: 0 Status: OK PackageFile: ggsc_1.5.0.zip PackageFileSize: 732.4 KiB