Package: ggmsa Version: 1.13.1 Command: /Library/Frameworks/R.framework/Resources/bin/R CMD INSTALL ggmsa StartedAt: 2025-02-19 15:25:48 -0500 (Wed, 19 Feb 2025) EndedAt: 2025-02-19 15:26:09 -0500 (Wed, 19 Feb 2025) EllapsedTime: 21.2 seconds RetCode: 0 Status: OK