Package: ggmanh Version: 1.11.0 Command: /Library/Frameworks/R.framework/Resources/bin/R CMD INSTALL ggmanh StartedAt: 2025-02-20 15:10:00 -0500 (Thu, 20 Feb 2025) EndedAt: 2025-02-20 15:10:08 -0500 (Thu, 20 Feb 2025) EllapsedTime: 7.1 seconds RetCode: 0 Status: OK