Package: ggmanh Version: 1.11.0 Command: /Library/Frameworks/R.framework/Resources/bin/R CMD build --keep-empty-dirs --no-resave-data ggmanh StartedAt: 2025-02-20 16:50:11 -0500 (Thu, 20 Feb 2025) EndedAt: 2025-02-20 16:51:13 -0500 (Thu, 20 Feb 2025) EllapsedTime: 62.8 seconds RetCode: 0 Status: OK PackageFile: ggmanh_1.11.0.tar.gz PackageFileSize: 4.418 MiB