Package: ggmanh Version: 1.11.0 Command: rm -rf ggmanh.buildbin-libdir && mkdir ggmanh.buildbin-libdir && /Users/biocbuild/BBS/utils/build-universal.sh ggmanh_1.11.0.tar.gz /Library/Frameworks/R.framework/Resources/bin/R ggmanh.buildbin-libdir StartedAt: 2025-02-21 00:33:10 -0500 (Fri, 21 Feb 2025) EndedAt: 2025-02-21 00:33:19 -0500 (Fri, 21 Feb 2025) EllapsedTime: 9.2 seconds RetCode: 0 Status: OK PackageFile: ggmanh_1.11.0.tgz PackageFileSize: 4.516 MiB