Package: ggkegg Version: 1.5.1 Command: /Library/Frameworks/R.framework/Resources/bin/R CMD build --keep-empty-dirs --no-resave-data ggkegg StartedAt: 2025-02-20 16:28:33 -0500 (Thu, 20 Feb 2025) EndedAt: 2025-02-20 16:29:00 -0500 (Thu, 20 Feb 2025) EllapsedTime: 27.3 seconds RetCode: 0 Status: OK PackageFile: ggkegg_1.5.1.tar.gz PackageFileSize: 3.46 MiB