Package: ggcyto Version: 1.35.0 Command: E:\biocbuild\bbs-3.21-bioc\R\bin\R.exe CMD INSTALL ggcyto StartedAt: 2025-02-20 15:54:18 -0500 (Thu, 20 Feb 2025) EndedAt: 2025-02-20 15:55:07 -0500 (Thu, 20 Feb 2025) EllapsedTime: 49.3 seconds RetCode: 0 Status: OK