Package: ggcyto Version: 1.35.0 Command: rm -rf ggcyto.buildbin-libdir && mkdir ggcyto.buildbin-libdir && E:\biocbuild\bbs-3.21-bioc\R\bin\R.exe CMD INSTALL --build --library=ggcyto.buildbin-libdir ggcyto_1.35.0.tar.gz StartedAt: 2025-02-21 08:12:06 -0500 (Fri, 21 Feb 2025) EndedAt: 2025-02-21 08:13:30 -0500 (Fri, 21 Feb 2025) EllapsedTime: 84.0 seconds RetCode: 0 Status: OK PackageFile: ggcyto_1.35.0.zip PackageFileSize: 2.495 MiB