Package: ggcyto Version: 1.35.0 Command: /home/biocbuild/bbs-3.21-bioc/R/bin/R CMD build --keep-empty-dirs --no-resave-data ggcyto StartedAt: 2025-02-21 17:57:48 -0500 (Fri, 21 Feb 2025) EndedAt: 2025-02-21 17:57:49 -0500 (Fri, 21 Feb 2025) EllapsedTime: 1.0 seconds RetCode: 1 Status: ERROR PackageFile: None PackageFileSize: NA