############################################################################## ############################################################################## ### ### Running command: ### ### /home/biocbuild/bbs-3.21-bioc/R/bin/R CMD build --keep-empty-dirs --no-resave-data ggcyto ### ############################################################################## ############################################################################## * checking for file ‘ggcyto/DESCRIPTION’ ... OK * preparing ‘ggcyto’: * checking DESCRIPTION meta-information ... OK * installing the package to process help pages ----------------------------------- ERROR: dependency ‘flowWorkspace’ is not available for package ‘ggcyto’ Perhaps try a variation of: install.packages('flowWorkspace') * removing ‘/tmp/RtmpVLrJDy/Rinste33d16d40a89e/ggcyto’ ----------------------------------- ERROR: package installation failed