Package: ggcyto Version: 1.35.0 Command: /Library/Frameworks/R.framework/Resources/bin/R CMD check --install=check:ggcyto.install-out.txt --library=/Library/Frameworks/R.framework/Resources/library --no-vignettes --timings ggcyto_1.35.0.tar.gz StartedAt: 2025-02-20 20:44:25 -0500 (Thu, 20 Feb 2025) EndedAt: 2025-02-20 20:47:43 -0500 (Thu, 20 Feb 2025) EllapsedTime: 197.4 seconds RetCode: 0 Status: WARNINGS CheckDir: ggcyto.Rcheck Warnings: 2