Package: ggcyto Version: 1.35.0 Command: /Library/Frameworks/R.framework/Resources/bin/R CMD build --keep-empty-dirs --no-resave-data ggcyto StartedAt: 2025-02-20 16:50:00 -0500 (Thu, 20 Feb 2025) EndedAt: 2025-02-20 16:51:57 -0500 (Thu, 20 Feb 2025) EllapsedTime: 116.6 seconds RetCode: 0 Status: OK PackageFile: ggcyto_1.35.0.tar.gz PackageFileSize: 24.32 MiB