Package: ggcyto Version: 1.35.0 Command: /Library/Frameworks/R.framework/Resources/bin/R CMD build --keep-empty-dirs --no-resave-data ggcyto StartedAt: 2025-02-20 16:28:19 -0500 (Thu, 20 Feb 2025) EndedAt: 2025-02-20 16:28:55 -0500 (Thu, 20 Feb 2025) EllapsedTime: 35.4 seconds RetCode: 0 Status: OK PackageFile: ggcyto_1.35.0.tar.gz PackageFileSize: 24.34 MiB