Package: ggcyto Version: 1.35.0 Command: rm -rf ggcyto.buildbin-libdir && mkdir ggcyto.buildbin-libdir && /Users/biocbuild/BBS/utils/build-universal.sh ggcyto_1.35.0.tar.gz /Library/Frameworks/R.framework/Resources/bin/R ggcyto.buildbin-libdir StartedAt: 2025-02-20 22:20:39 -0500 (Thu, 20 Feb 2025) EndedAt: 2025-02-20 22:20:48 -0500 (Thu, 20 Feb 2025) EllapsedTime: 9.2 seconds RetCode: 0 Status: OK PackageFile: ggcyto_1.35.0.tgz PackageFileSize: 5.818 MiB