Package: ggbio Version: 1.55.0 Command: E:\biocbuild\bbs-3.21-bioc\R\bin\R.exe CMD check --no-multiarch --install=check:ggbio.install-out.txt --library=E:\biocbuild\bbs-3.21-bioc\R\library --no-vignettes --timings ggbio_1.55.0.tar.gz StartedAt: 2025-02-21 01:49:23 -0500 (Fri, 21 Feb 2025) EndedAt: 2025-02-21 02:01:31 -0500 (Fri, 21 Feb 2025) EllapsedTime: 728.2 seconds RetCode: 0 Status: WARNINGS CheckDir: ggbio.Rcheck Warnings: 2