Package: ggbio Version: 1.55.0 Command: chmod a+r ggbio -R && E:\biocbuild\bbs-3.21-bioc\R\bin\R.exe CMD build --keep-empty-dirs --no-resave-data ggbio StartedAt: 2025-02-20 19:01:44 -0500 (Thu, 20 Feb 2025) EndedAt: 2025-02-20 19:08:49 -0500 (Thu, 20 Feb 2025) EllapsedTime: 425.4 seconds RetCode: 0 Status: OK PackageFile: ggbio_1.55.0.tar.gz PackageFileSize: 3.104 MiB