Package: ggbio Version: 1.55.0 Command: rm -rf ggbio.buildbin-libdir && mkdir ggbio.buildbin-libdir && E:\biocbuild\bbs-3.21-bioc\R\bin\R.exe CMD INSTALL --build --library=ggbio.buildbin-libdir ggbio_1.55.0.tar.gz StartedAt: 2025-02-21 08:12:05 -0500 (Fri, 21 Feb 2025) EndedAt: 2025-02-21 08:14:54 -0500 (Fri, 21 Feb 2025) EllapsedTime: 169.5 seconds RetCode: 0 Status: OK PackageFile: ggbio_1.55.0.zip PackageFileSize: 3.288 MiB