Package: ggbio Version: 1.55.0 Command: /Library/Frameworks/R.framework/Resources/bin/R CMD INSTALL ggbio StartedAt: 2025-02-20 15:26:12 -0500 (Thu, 20 Feb 2025) EndedAt: 2025-02-20 15:27:29 -0500 (Thu, 20 Feb 2025) EllapsedTime: 77.4 seconds RetCode: 0 Status: OK