Package: ggbio Version: 1.55.0 Command: /Library/Frameworks/R.framework/Resources/bin/R CMD build --keep-empty-dirs --no-resave-data ggbio StartedAt: 2025-02-20 16:49:52 -0500 (Thu, 20 Feb 2025) EndedAt: 2025-02-20 16:55:03 -0500 (Thu, 20 Feb 2025) EllapsedTime: 310.6 seconds RetCode: 0 Status: OK PackageFile: ggbio_1.55.0.tar.gz PackageFileSize: 3.096 MiB