Package: gg4way Version: 1.5.0 Command: /home/biocbuild/bbs-3.21-bioc/R/bin/R CMD INSTALL gg4way StartedAt: 2025-02-20 15:31:28 -0500 (Thu, 20 Feb 2025) EndedAt: 2025-02-20 15:31:54 -0500 (Thu, 20 Feb 2025) EllapsedTime: 26.3 seconds RetCode: 0 Status: OK