Package: gg4way Version: 1.5.0 Command: /Library/Frameworks/R.framework/Resources/bin/R CMD INSTALL gg4way StartedAt: 2025-02-20 15:15:30 -0500 (Thu, 20 Feb 2025) EndedAt: 2025-02-20 15:16:07 -0500 (Thu, 20 Feb 2025) EllapsedTime: 36.5 seconds RetCode: 0 Status: OK