Package: gg4way Version: 1.5.0 Command: /Library/Frameworks/R.framework/Resources/bin/R CMD check --install=check:gg4way.install-out.txt --library=/Library/Frameworks/R.framework/Resources/library --no-vignettes --timings gg4way_1.5.0.tar.gz StartedAt: 2025-02-20 20:44:01 -0500 (Thu, 20 Feb 2025) EndedAt: 2025-02-20 20:47:31 -0500 (Thu, 20 Feb 2025) EllapsedTime: 210.1 seconds RetCode: 0 Status: OK CheckDir: gg4way.Rcheck Warnings: 0