Package: gg4way Version: 1.5.0 Command: /Library/Frameworks/R.framework/Resources/bin/R CMD build --keep-empty-dirs --no-resave-data gg4way StartedAt: 2025-02-20 16:49:44 -0500 (Thu, 20 Feb 2025) EndedAt: 2025-02-20 16:51:17 -0500 (Thu, 20 Feb 2025) EllapsedTime: 92.6 seconds RetCode: 0 Status: OK PackageFile: gg4way_1.5.0.tar.gz PackageFileSize: 2.975 MiB