Package: geyser Version: 0.99.8 Command: /home/biocbuild/bbs-3.21-bioc/R/bin/R CMD INSTALL geyser StartedAt: 2025-02-20 15:26:39 -0500 (Thu, 20 Feb 2025) EndedAt: 2025-02-20 15:27:02 -0500 (Thu, 20 Feb 2025) EllapsedTime: 23.5 seconds RetCode: 0 Status: OK