Package: geyser Version: 0.99.8 Command: /home/biocbuild/bbs-3.21-bioc/R/bin/R CMD check --install=check:geyser.install-out.txt --library=/home/biocbuild/bbs-3.21-bioc/R/site-library --timings geyser_0.99.8.tar.gz StartedAt: 2025-02-20 22:23:36 -0500 (Thu, 20 Feb 2025) EndedAt: 2025-02-20 22:26:45 -0500 (Thu, 20 Feb 2025) EllapsedTime: 188.3 seconds RetCode: 0 Status: OK CheckDir: geyser.Rcheck Warnings: 0