Package: geyser Version: 0.99.8 Command: /Library/Frameworks/R.framework/Resources/bin/R CMD build --keep-empty-dirs --no-resave-data geyser StartedAt: 2025-02-20 16:28:16 -0500 (Thu, 20 Feb 2025) EndedAt: 2025-02-20 16:28:33 -0500 (Thu, 20 Feb 2025) EllapsedTime: 16.2 seconds RetCode: 0 Status: OK PackageFile: geyser_0.99.8.tar.gz PackageFileSize: 2.279 MiB