Package: geva Version: 1.15.0 Command: E:\biocbuild\bbs-3.21-bioc\R\bin\R.exe CMD check --no-multiarch --install=check:geva.install-out.txt --library=E:\biocbuild\bbs-3.21-bioc\R\library --no-vignettes --timings geva_1.15.0.tar.gz StartedAt: 2025-02-18 01:21:51 -0500 (Tue, 18 Feb 2025) EndedAt: 2025-02-18 01:25:35 -0500 (Tue, 18 Feb 2025) EllapsedTime: 224.1 seconds RetCode: 0 Status: OK CheckDir: geva.Rcheck Warnings: 0