Package: geva Version: 1.15.0 Command: chmod a+r geva -R && E:\biocbuild\bbs-3.21-bioc\R\bin\R.exe CMD build --keep-empty-dirs --no-resave-data geva StartedAt: 2025-02-17 18:51:14 -0500 (Mon, 17 Feb 2025) EndedAt: 2025-02-17 18:56:35 -0500 (Mon, 17 Feb 2025) EllapsedTime: 321.1 seconds RetCode: 0 Status: OK PackageFile: geva_1.15.0.tar.gz PackageFileSize: 1016 KiB