Package: geva Version: 1.15.0 Command: rm -rf geva.buildbin-libdir && mkdir geva.buildbin-libdir && E:\biocbuild\bbs-3.21-bioc\R\bin\R.exe CMD INSTALL --build --library=geva.buildbin-libdir geva_1.15.0.tar.gz StartedAt: 2025-02-18 07:26:49 -0500 (Tue, 18 Feb 2025) EndedAt: 2025-02-18 07:27:47 -0500 (Tue, 18 Feb 2025) EllapsedTime: 57.2 seconds RetCode: 0 Status: OK PackageFile: geva_1.15.0.zip PackageFileSize: 1.455 MiB