Package: geva Version: 1.15.0 Command: /Library/Frameworks/R.framework/Resources/bin/R CMD INSTALL geva StartedAt: 2025-02-17 15:05:15 -0500 (Mon, 17 Feb 2025) EndedAt: 2025-02-17 15:05:36 -0500 (Mon, 17 Feb 2025) EllapsedTime: 21.1 seconds RetCode: 0 Status: OK