Package: geva Version: 1.15.0 Command: /Library/Frameworks/R.framework/Resources/bin/R CMD check --install=check:geva.install-out.txt --library=/Library/Frameworks/R.framework/Resources/library --no-vignettes --timings geva_1.15.0.tar.gz StartedAt: 2025-02-17 20:40:12 -0500 (Mon, 17 Feb 2025) EndedAt: 2025-02-17 20:43:30 -0500 (Mon, 17 Feb 2025) EllapsedTime: 198.8 seconds RetCode: 0 Status: OK CheckDir: geva.Rcheck Warnings: 0