Package: geva Version: 1.15.0 Command: /Library/Frameworks/R.framework/Resources/bin/R CMD build --keep-empty-dirs --no-resave-data geva StartedAt: 2025-02-17 16:48:38 -0500 (Mon, 17 Feb 2025) EndedAt: 2025-02-17 16:50:35 -0500 (Mon, 17 Feb 2025) EllapsedTime: 116.7 seconds RetCode: 0 Status: OK PackageFile: geva_1.15.0.tar.gz PackageFileSize: 2.217 MiB