Package: geva Version: 1.15.0 Command: rm -rf geva.buildbin-libdir && mkdir geva.buildbin-libdir && /Users/biocbuild/BBS/utils/build-universal.sh geva_1.15.0.tar.gz /Library/Frameworks/R.framework/Resources/bin/R geva.buildbin-libdir StartedAt: 2025-02-18 00:27:03 -0500 (Tue, 18 Feb 2025) EndedAt: 2025-02-18 00:27:15 -0500 (Tue, 18 Feb 2025) EllapsedTime: 11.5 seconds RetCode: 0 Status: OK PackageFile: geva_1.15.0.tgz PackageFileSize: 2.682 MiB