Package: geva Version: 1.15.0 Command: /home/biocbuild/R/R/bin/R CMD build --keep-empty-dirs --no-resave-data geva StartedAt: 2025-01-28 23:11:31 -0000 (Tue, 28 Jan 2025) EndedAt: 2025-01-28 23:14:03 -0000 (Tue, 28 Jan 2025) EllapsedTime: 152.1 seconds RetCode: 1 Status: ERROR PackageFile: None PackageFileSize: NA