Package: geva Version: 1.15.0 Command: /Library/Frameworks/R.framework/Resources/bin/R CMD build --keep-empty-dirs --no-resave-data geva StartedAt: 2025-02-17 16:26:46 -0500 (Mon, 17 Feb 2025) EndedAt: 2025-02-17 16:27:31 -0500 (Mon, 17 Feb 2025) EllapsedTime: 45.5 seconds RetCode: 0 Status: OK PackageFile: geva_1.15.0.tar.gz PackageFileSize: 2.245 MiB