Package: geva Version: 1.15.0 Command: rm -rf geva.buildbin-libdir && mkdir geva.buildbin-libdir && /Users/biocbuild/BBS/utils/build-universal.sh geva_1.15.0.tar.gz /Library/Frameworks/R.framework/Resources/bin/R geva.buildbin-libdir StartedAt: 2025-02-17 22:19:08 -0500 (Mon, 17 Feb 2025) EndedAt: 2025-02-17 22:19:12 -0500 (Mon, 17 Feb 2025) EllapsedTime: 4.1 seconds RetCode: 0 Status: OK PackageFile: geva_1.15.0.tgz PackageFileSize: 2.712 MiB