Package: getDEE2 Version: 1.17.3 Command: /home/biocbuild/bbs-3.21-bioc/R/bin/R CMD check --install=check:getDEE2.install-out.txt --library=/home/biocbuild/bbs-3.21-bioc/R/site-library --timings getDEE2_1.17.3.tar.gz StartedAt: 2025-02-19 22:39:31 -0500 (Wed, 19 Feb 2025) EndedAt: 2025-02-19 22:48:57 -0500 (Wed, 19 Feb 2025) EllapsedTime: 565.8 seconds RetCode: 0 Status: OK CheckDir: getDEE2.Rcheck Warnings: 0