Package: getDEE2 Version: 1.17.3 Command: /Library/Frameworks/R.framework/Resources/bin/R CMD INSTALL getDEE2 StartedAt: 2025-02-19 15:09:45 -0500 (Wed, 19 Feb 2025) EndedAt: 2025-02-19 15:10:14 -0500 (Wed, 19 Feb 2025) EllapsedTime: 28.8 seconds RetCode: 0 Status: OK