Package: getDEE2 Version: 1.17.3 Command: /home/biocbuild/R/R/bin/R CMD build --keep-empty-dirs --no-resave-data getDEE2 StartedAt: 2025-01-28 23:11:27 -0000 (Tue, 28 Jan 2025) EndedAt: 2025-01-28 23:12:54 -0000 (Tue, 28 Jan 2025) EllapsedTime: 87.0 seconds RetCode: 0 Status: OK PackageFile: getDEE2_1.17.3.tar.gz PackageFileSize: 22.67 KiB