Package: gespeR Version: 1.39.1 Command: E:\biocbuild\bbs-3.21-bioc\R\bin\R.exe CMD INSTALL gespeR StartedAt: 2025-02-20 17:07:46 -0500 (Thu, 20 Feb 2025) EndedAt: 2025-02-20 17:07:47 -0500 (Thu, 20 Feb 2025) EllapsedTime: 0.3 seconds RetCode: 1 Status: ERROR