Package: gespeR Version: 1.39.1 Command: chmod a+r gespeR -R && E:\biocbuild\bbs-3.21-bioc\R\bin\R.exe CMD build --keep-empty-dirs --no-resave-data gespeR StartedAt: 2025-02-20 19:01:06 -0500 (Thu, 20 Feb 2025) EndedAt: 2025-02-20 19:01:10 -0500 (Thu, 20 Feb 2025) EllapsedTime: 3.9 seconds RetCode: 1 Status: ERROR PackageFile: None PackageFileSize: NA