Package: gespeR Version: 1.39.1 Command: /home/biocbuild/bbs-3.21-bioc/R/bin/R CMD INSTALL gespeR StartedAt: 2025-02-20 16:23:07 -0500 (Thu, 20 Feb 2025) EndedAt: 2025-02-20 16:23:07 -0500 (Thu, 20 Feb 2025) EllapsedTime: 0.2 seconds RetCode: 1 Status: ERROR