Package: gespeR Version: 1.39.1 Command: /Library/Frameworks/R.framework/Resources/bin/R CMD INSTALL gespeR StartedAt: 2025-02-20 15:49:29 -0500 (Thu, 20 Feb 2025) EndedAt: 2025-02-20 15:49:30 -0500 (Thu, 20 Feb 2025) EllapsedTime: 0.2 seconds RetCode: 1 Status: ERROR