Package: gespeR Version: 1.39.1 Command: /Library/Frameworks/R.framework/Resources/bin/R CMD build --keep-empty-dirs --no-resave-data gespeR StartedAt: 2025-02-20 16:49:35 -0500 (Thu, 20 Feb 2025) EndedAt: 2025-02-20 16:49:36 -0500 (Thu, 20 Feb 2025) EllapsedTime: 1.2 seconds RetCode: 1 Status: ERROR PackageFile: None PackageFileSize: NA