Package: gep2pep Version: 1.27.0 Command: /Library/Frameworks/R.framework/Resources/bin/R CMD INSTALL gep2pep StartedAt: 2025-02-19 15:18:40 -0500 (Wed, 19 Feb 2025) EndedAt: 2025-02-19 15:18:47 -0500 (Wed, 19 Feb 2025) EllapsedTime: 6.9 seconds RetCode: 0 Status: OK