Package: gep2pep Version: 1.27.0 Command: /Library/Frameworks/R.framework/Resources/bin/R CMD build --keep-empty-dirs --no-resave-data gep2pep StartedAt: 2025-02-19 16:28:15 -0500 (Wed, 19 Feb 2025) EndedAt: 2025-02-19 16:28:29 -0500 (Wed, 19 Feb 2025) EllapsedTime: 14.1 seconds RetCode: 0 Status: OK PackageFile: gep2pep_1.27.0.tar.gz PackageFileSize: 121.9 KiB