Package: geomeTriD Version: 1.1.9 Command: E:\biocbuild\bbs-3.21-bioc\R\bin\R.exe CMD INSTALL geomeTriD StartedAt: 2025-02-18 16:39:04 -0500 (Tue, 18 Feb 2025) EndedAt: 2025-02-18 16:40:23 -0500 (Tue, 18 Feb 2025) EllapsedTime: 79.0 seconds RetCode: 0 Status: OK