Package: geomeTriD Version: 1.1.9 Command: chmod a+r geomeTriD -R && E:\biocbuild\bbs-3.21-bioc\R\bin\R.exe CMD build --keep-empty-dirs --no-resave-data geomeTriD StartedAt: 2025-02-19 18:58:02 -0500 (Wed, 19 Feb 2025) EndedAt: 2025-02-19 18:59:58 -0500 (Wed, 19 Feb 2025) EllapsedTime: 115.1 seconds RetCode: 0 Status: OK PackageFile: geomeTriD_1.1.9.tar.gz PackageFileSize: 920.2 KiB